BEGIN:VCALENDAR
VERSION:2.0
PRODID:-//Kintauden nuorisoseura - ECPv6.15.0.1//NONSGML v1.0//EN
CALSCALE:GREGORIAN
METHOD:PUBLISH
X-ORIGINAL-URL:https://www.kintaudennuorisoseura.fi
X-WR-CALDESC:Tapahtumat Kintauden nuorisoseura
REFRESH-INTERVAL;VALUE=DURATION:PT1H
X-Robots-Tag:noindex
X-PUBLISHED-TTL:PT1H
BEGIN:VTIMEZONE
TZID:UTC
BEGIN:STANDARD
TZOFFSETFROM:+0000
TZOFFSETTO:+0000
TZNAME:UTC
DTSTART:20240101T000000
END:STANDARD
END:VTIMEZONE
BEGIN:VEVENT
DTSTART;TZID=UTC:20250226T170000
DTEND;TZID=UTC:20250226T210000
DTSTAMP:20260426T015131
CREATED:20250216T131552Z
LAST-MODIFIED:20250216T131552Z
UID:10000406-1740589200-1740603600@www.kintaudennuorisoseura.fi
SUMMARY:Yksityistilaisuus
DESCRIPTION:Vesiosuuskunta
URL:https://www.kintaudennuorisoseura.fi/tapahtuma/yksityistilaisuus-19/
LOCATION:Kintauden nuorisoseurantalo Koivikko\, Räihäntie 35\, Kintaus\, 41920\, Suomi
END:VEVENT
BEGIN:VEVENT
DTSTART;TZID=UTC:20250216T120000
DTEND;TZID=UTC:20250216T210000
DTSTAMP:20260426T015131
CREATED:20250108T182432Z
LAST-MODIFIED:20250203T175827Z
UID:10000396-1739707200-1739739600@www.kintaudennuorisoseura.fi
SUMMARY:Huutokauppa
DESCRIPTION:Huutaminen alkaa 13.00 näyttötunti 12.00 \nKintauden nuorisoseuran kahvila palvelee koko tapahtuman ajan. \nTervetuloa!
URL:https://www.kintaudennuorisoseura.fi/tapahtuma/huutokauppa-9/
LOCATION:Kintauden nuorisoseurantalo Koivikko\, Räihäntie 35\, Kintaus\, 41920\, Suomi
CATEGORIES:Huutokauppa,Kahvila
ORGANIZER;CN="Jyv%C3%A4skyl%C3%A4n tyhjennysapu":MAILTO:tyhjennyspalvelut@gmail.com
END:VEVENT
BEGIN:VEVENT
DTSTART;TZID=UTC:20250215T123000
DTEND;TZID=UTC:20250215T170000
DTSTAMP:20260426T015131
CREATED:20250126T190231Z
LAST-MODIFIED:20250126T190403Z
UID:10000401-1739622600-1739638800@www.kintaudennuorisoseura.fi
SUMMARY:Ilmainen tanssikurssi
DESCRIPTION:12-14 \n14 Kahvio palvelee \n14.15-16.15
URL:https://www.kintaudennuorisoseura.fi/tapahtuma/ilmainen-tanssikurssi/
LOCATION:Kintauden nuorisoseurantalo Koivikko\, Räihäntie 35\, Kintaus\, 41920\, Suomi
END:VEVENT
BEGIN:VEVENT
DTSTART;TZID=UTC:20250208T170000
DTEND;TZID=UTC:20250208T213000
DTSTAMP:20260426T015131
CREATED:20250120T064631Z
LAST-MODIFIED:20250120T064631Z
UID:10000400-1739034000-1739050200@www.kintaudennuorisoseura.fi
SUMMARY:Karaoketanssit
DESCRIPTION:Matti laulattaa 17.00 alkaen. Liput 8€
URL:https://www.kintaudennuorisoseura.fi/tapahtuma/karaoketanssit-7/
LOCATION:Kintauden nuorisoseurantalo Koivikko\, Räihäntie 35\, Kintaus\, 41920\, Suomi
ATTACH;FMTTYPE=image/jpeg:https://www.kintaudennuorisoseura.fi/wp-content/uploads/2025/01/Karaoke-7.jpg
END:VEVENT
BEGIN:VEVENT
DTSTART;TZID=UTC:20250205T170000
DTEND;TZID=UTC:20250205T190000
DTSTAMP:20260426T015131
CREATED:20250120T064450Z
LAST-MODIFIED:20250120T064450Z
UID:10000399-1738774800-1738782000@www.kintaudennuorisoseura.fi
SUMMARY:Peli-ilta
DESCRIPTION:Kevään 2025 aikana peli-illat pidetään parillisten viikkojen keskiviikkoina 17.00-19.00. Poikkeuksista ilmoitetaan viikkokohtaisessa julkaisussa. \nPeli-ilta on tarkoitettu koululaisille. Ala-aste ja ylä-asteen oppilaille. Myös eskarilaisia on ollut toimintaan tutustumassa.
URL:https://www.kintaudennuorisoseura.fi/tapahtuma/peli-ilta-20/
LOCATION:Kintauden nuorisoseurantalo Koivikko\, Räihäntie 35\, Kintaus\, 41920\, Suomi
CATEGORIES:Peli-ilta
END:VEVENT
BEGIN:VEVENT
DTSTART;TZID=UTC:20250202T120000
DTEND;TZID=UTC:20250202T170000
DTSTAMP:20260426T015131
CREATED:20250108T182328Z
LAST-MODIFIED:20250108T182328Z
UID:10000395-1738497600-1738515600@www.kintaudennuorisoseura.fi
SUMMARY:Huutokauppa
DESCRIPTION:
URL:https://www.kintaudennuorisoseura.fi/tapahtuma/huutokauppa-8/
LOCATION:Kintauden nuorisoseurantalo Koivikko\, Räihäntie 35\, Kintaus\, 41920\, Suomi
CATEGORIES:Huutokauppa,Kahvila
ORGANIZER;CN="Jyv%C3%A4skyl%C3%A4n tyhjennysapu":MAILTO:tyhjennyspalvelut@gmail.com
END:VEVENT
BEGIN:VEVENT
DTSTART;TZID=UTC:20250122T170000
DTEND;TZID=UTC:20250122T190000
DTSTAMP:20260426T015131
CREATED:20250113T084734Z
LAST-MODIFIED:20250120T064256Z
UID:10000397-1737565200-1737572400@www.kintaudennuorisoseura.fi
SUMMARY:Peli-ilta
DESCRIPTION:Peli-ilta järjestetään parillisten viikkojen keskiviikkoina kello:17-19. \nTervetuloa!
URL:https://www.kintaudennuorisoseura.fi/tapahtuma/peli-ilta-19/
LOCATION:Kintauden nuorisoseurantalo Koivikko\, Räihäntie 35\, Kintaus\, 41920\, Suomi
CATEGORIES:Peli-ilta
ATTACH;FMTTYPE=image/jpeg:https://www.kintaudennuorisoseura.fi/wp-content/uploads/2025/01/Peli-ilta-11.jpg
END:VEVENT
BEGIN:VEVENT
DTSTART;TZID=UTC:20250119T120000
DTEND;TZID=UTC:20250119T170000
DTSTAMP:20260426T015131
CREATED:20241228T170255Z
LAST-MODIFIED:20241228T170255Z
UID:10000393-1737288000-1737306000@www.kintaudennuorisoseura.fi
SUMMARY:Huutokauppa
DESCRIPTION:Näyttö alkaa 12.00 ja huutaminen 13.00.
URL:https://www.kintaudennuorisoseura.fi/tapahtuma/huutokauppa-7/
LOCATION:Kintauden nuorisoseurantalo Koivikko\, Räihäntie 35\, Kintaus\, 41920\, Suomi
ORGANIZER;CN="Jyv%C3%A4skyl%C3%A4n tyhjennysapu":MAILTO:tyhjennyspalvelut@gmail.com
END:VEVENT
BEGIN:VEVENT
DTSTART;TZID=UTC:20250118T170000
DTEND;TZID=UTC:20250118T200000
DTSTAMP:20260426T015131
CREATED:20241228T170406Z
LAST-MODIFIED:20241228T170406Z
UID:10000394-1737219600-1737230400@www.kintaudennuorisoseura.fi
SUMMARY:Karaoketanssit
DESCRIPTION:Matti laulattaa 17.00 alkaen. Liput 8€
URL:https://www.kintaudennuorisoseura.fi/tapahtuma/karaoketanssit-6/
LOCATION:Kintauden nuorisoseurantalo Koivikko\, Räihäntie 35\, Kintaus\, 41920\, Suomi
END:VEVENT
BEGIN:VEVENT
DTSTART;TZID=UTC:20250106T150000
DTEND;TZID=UTC:20250106T170000
DTSTAMP:20260426T015131
CREATED:20241228T170159Z
LAST-MODIFIED:20241228T170159Z
UID:10000392-1736175600-1736182800@www.kintaudennuorisoseura.fi
SUMMARY:Huutokauppa
DESCRIPTION:HUOM poikkeavat ajat: Näyttö alkaa 15.00 ja huutaminen 16.00.
URL:https://www.kintaudennuorisoseura.fi/tapahtuma/huutokauppa-6/
LOCATION:Kintauden nuorisoseurantalo Koivikko\, Räihäntie 35\, Kintaus\, 41920\, Suomi
ORGANIZER;CN="Jyv%C3%A4skyl%C3%A4n tyhjennysapu":MAILTO:tyhjennyspalvelut@gmail.com
END:VEVENT
BEGIN:VEVENT
DTSTART;TZID=UTC:20241226T120000
DTEND;TZID=UTC:20241226T170000
DTSTAMP:20260426T015131
CREATED:20241202T191251Z
LAST-MODIFIED:20241202T191251Z
UID:10000389-1735214400-1735232400@www.kintaudennuorisoseura.fi
SUMMARY:Huutokauppa
DESCRIPTION:Näyttö 12.00 huutaminen alkaa 13.00 \n  \nHuutokaupan tavaroita esillä Jyväskylän tyhjennyspalvelun sivuilla.
URL:https://www.kintaudennuorisoseura.fi/tapahtuma/huutokauppa-5/
LOCATION:Kintauden nuorisoseurantalo Koivikko\, Räihäntie 35\, Kintaus\, 41920\, Suomi
CATEGORIES:Huutokauppa,Kahvila
ORGANIZER;CN="Jyv%C3%A4skyl%C3%A4n tyhjennysapu":MAILTO:tyhjennyspalvelut@gmail.com
END:VEVENT
BEGIN:VEVENT
DTSTART;TZID=UTC:20241214T080000
DTEND;TZID=UTC:20241214T230000
DTSTAMP:20260426T015131
CREATED:20240916T081143Z
LAST-MODIFIED:20240916T081143Z
UID:10000151-1734163200-1734217200@www.kintaudennuorisoseura.fi
SUMMARY:yksityistilaisuus popdog
DESCRIPTION:
URL:https://www.kintaudennuorisoseura.fi/tapahtuma/yksityistilaisuus-popdog/
LOCATION:Kintauden nuorisoseurantalo Koivikko\, Räihäntie 35\, Kintaus\, 41920\, Suomi
END:VEVENT
BEGIN:VEVENT
DTSTART;TZID=UTC:20241204T170000
DTEND;TZID=UTC:20241204T190000
DTSTAMP:20260426T015131
CREATED:20241022T141938Z
LAST-MODIFIED:20241022T142547Z
UID:10000289-1733331600-1733338800@www.kintaudennuorisoseura.fi
SUMMARY:Peli-ilta
DESCRIPTION:-Tervetuloa pelailemaan aina parittoman viikon keskiviikkona 17-19. Aikuisille kahvia tarjolla.
URL:https://www.kintaudennuorisoseura.fi/tapahtuma/peli-ilta-18/2024-12-04/
LOCATION:Kintauden nuorisoseurantalo Koivikko\, Räihäntie 35\, Kintaus\, 41920\, Suomi
CATEGORIES:Peli-ilta
END:VEVENT
BEGIN:VEVENT
DTSTART;TZID=UTC:20241202T140000
DTEND;TZID=UTC:20241202T163000
DTSTAMP:20260426T015131
CREATED:20240804T132807Z
LAST-MODIFIED:20240804T132807Z
UID:10000142-1733148000-1733157000@www.kintaudennuorisoseura.fi
SUMMARY:Maanantaikahvila
DESCRIPTION:Maanantaikahvilassa tarjolla suolaista ja makeaa herkkua sekä viileitä juomia ja tietysti kahvia\, teetä ja kaakaota. Myös karkkikaapin ovet ovat auki jos makean himo iskee. \nTervetuloa.
URL:https://www.kintaudennuorisoseura.fi/tapahtuma/maanantaikahvila-8/
LOCATION:Kintauden nuorisoseurantalo Koivikko\, Räihäntie 35\, Kintaus\, 41920\, Suomi
CATEGORIES:Kahvila
ATTACH;FMTTYPE=image/jpeg:https://www.kintaudennuorisoseura.fi/wp-content/uploads/2024/08/Maanantai-4.jpg
END:VEVENT
BEGIN:VEVENT
DTSTART;TZID=UTC:20241201T120000
DTEND;TZID=UTC:20241201T170000
DTSTAMP:20260426T015131
CREATED:20241115T050305Z
LAST-MODIFIED:20241115T050305Z
UID:10000385-1733054400-1733072400@www.kintaudennuorisoseura.fi
SUMMARY:Huutokauppa
DESCRIPTION:Näyttö 12 huutaminen alkaa 13
URL:https://www.kintaudennuorisoseura.fi/tapahtuma/huutokauppa-4/
LOCATION:Kintauden nuorisoseurantalo Koivikko\, Räihäntie 35\, Kintaus\, 41920\, Suomi
END:VEVENT
BEGIN:VEVENT
DTSTART;TZID=UTC:20241130T110000
DTEND;TZID=UTC:20241130T150000
DTSTAMP:20260426T015131
CREATED:20240728T123401Z
LAST-MODIFIED:20241202T191328Z
UID:10000137-1732964400-1732978800@www.kintaudennuorisoseura.fi
SUMMARY:Joulumyyjäiset
DESCRIPTION:Joulumyyjäiset 11-15. peruttu
URL:https://www.kintaudennuorisoseura.fi/tapahtuma/joulumyyjaiset-2/
LOCATION:Kintauden nuorisoseurantalo Koivikko\, Räihäntie 35\, Kintaus\, 41920\, Suomi
ATTACH;FMTTYPE=image/jpeg:https://www.kintaudennuorisoseura.fi/wp-content/uploads/2024/07/Kintaudes-nuorisoseuran-talolla-1-scaled.jpg
END:VEVENT
BEGIN:VEVENT
DTSTART;TZID=UTC:20241126T173000
DTEND;TZID=UTC:20241126T190000
DTSTAMP:20260426T015131
CREATED:20241115T045958Z
LAST-MODIFIED:20241115T045958Z
UID:10000383-1732642200-1732647600@www.kintaudennuorisoseura.fi
SUMMARY:yksityistilaisuus
DESCRIPTION:
URL:https://www.kintaudennuorisoseura.fi/tapahtuma/yksityistilaisuus-12/
LOCATION:Kintauden nuorisoseurantalo Koivikko\, Räihäntie 35\, Kintaus\, 41920\, Suomi
END:VEVENT
BEGIN:VEVENT
DTSTART;TZID=UTC:20241125T170000
DTEND;TZID=UTC:20241125T210000
DTSTAMP:20260426T015131
CREATED:20241115T050153Z
LAST-MODIFIED:20241115T050153Z
UID:10000384-1732554000-1732568400@www.kintaudennuorisoseura.fi
SUMMARY:Huutokauppa
DESCRIPTION:Näyttötunti 17 huutaminen alkaa 18
URL:https://www.kintaudennuorisoseura.fi/tapahtuma/huutokauppa-3/
LOCATION:Kintauden nuorisoseurantalo Koivikko\, Räihäntie 35\, Kintaus\, 41920\, Suomi
END:VEVENT
BEGIN:VEVENT
DTSTART;TZID=UTC:20241124T140000
DTEND;TZID=UTC:20241124T170000
DTSTAMP:20260426T015131
CREATED:20240923T084700Z
LAST-MODIFIED:20241002T125857Z
UID:10000152-1732456800-1732467600@www.kintaudennuorisoseura.fi
SUMMARY:Teatteri esitys Haihattelija
DESCRIPTION:Kintauden nuorisoseuran vieraaksi tulee teatteriseurue Kuohulta ja he esittävät Kuohun kylätalolla esitetyn näytelmän vielä kerran Kintaudella. \n  \n  \n 
URL:https://www.kintaudennuorisoseura.fi/tapahtuma/teatteri-esitys-haihatus/
LOCATION:Kintauden nuorisoseurantalo Koivikko\, Räihäntie 35\, Kintaus\, 41920\, Suomi
END:VEVENT
BEGIN:VEVENT
DTSTART;TZID=UTC:20241123T170000
DTEND;TZID=UTC:20241123T200000
DTSTAMP:20260426T015131
CREATED:20240906T101858Z
LAST-MODIFIED:20241022T142759Z
UID:10000150-1732381200-1732392000@www.kintaudennuorisoseura.fi
SUMMARY:Lauantai karaoketanssit
DESCRIPTION:Alkaen 17.00 lauletaan ja tanssitaan Matin johdolla.
URL:https://www.kintaudennuorisoseura.fi/tapahtuma/karaoketanssit-5/
LOCATION:Kintauden nuorisoseurantalo Koivikko\, Räihäntie 35\, Kintaus\, 41920\, Suomi
CATEGORIES:Kahvila,Karaoke tanssit
ATTACH;FMTTYPE=image/jpeg:https://www.kintaudennuorisoseura.fi/wp-content/uploads/2024/09/Karaoke-5.jpg
END:VEVENT
BEGIN:VEVENT
DTSTART;TZID=UTC:20241123T100000
DTEND;TZID=UTC:20241123T140000
DTSTAMP:20260426T015131
CREATED:20241030T121138Z
LAST-MODIFIED:20241030T121549Z
UID:10000291-1732356000-1732370400@www.kintaudennuorisoseura.fi
SUMMARY:yksityistilaisuus
DESCRIPTION:
URL:https://www.kintaudennuorisoseura.fi/tapahtuma/yksityistilaisuus-13/
LOCATION:Kintauden nuorisoseurantalo Koivikko\, Räihäntie 35\, Kintaus\, 41920\, Suomi
END:VEVENT
BEGIN:VEVENT
DTSTART;TZID=UTC:20241120T170000
DTEND;TZID=UTC:20241120T190000
DTSTAMP:20260426T015131
CREATED:20241022T141938Z
LAST-MODIFIED:20241022T142547Z
UID:10000288-1732122000-1732129200@www.kintaudennuorisoseura.fi
SUMMARY:Peli-ilta
DESCRIPTION:-Tervetuloa pelailemaan aina parittoman viikon keskiviikkona 17-19. Aikuisille kahvia tarjolla.
URL:https://www.kintaudennuorisoseura.fi/tapahtuma/peli-ilta-18/2024-11-20/
LOCATION:Kintauden nuorisoseurantalo Koivikko\, Räihäntie 35\, Kintaus\, 41920\, Suomi
CATEGORIES:Peli-ilta
END:VEVENT
BEGIN:VEVENT
DTSTART;TZID=UTC:20241117T080000
DTEND;TZID=UTC:20241117T170000
DTSTAMP:20260426T015131
CREATED:20241005T130409Z
LAST-MODIFIED:20241005T130409Z
UID:10000153-1731830400-1731862800@www.kintaudennuorisoseura.fi
SUMMARY:yksityistilaisuus
DESCRIPTION:varattu
URL:https://www.kintaudennuorisoseura.fi/tapahtuma/yksityistilaisuus-11/
LOCATION:Kintauden nuorisoseurantalo Koivikko\, Räihäntie 35\, Kintaus\, 41920\, Suomi
END:VEVENT
BEGIN:VEVENT
DTSTART;TZID=UTC:20241113T163000
DTEND;TZID=UTC:20241113T170000
DTSTAMP:20260426T015131
CREATED:20241030T124637Z
LAST-MODIFIED:20241030T124637Z
UID:10000292-1731515400-1731517200@www.kintaudennuorisoseura.fi
SUMMARY:syyskokous
DESCRIPTION:Sääntömääräiset syyskokous asiat.
URL:https://www.kintaudennuorisoseura.fi/tapahtuma/syyskokous-2/
LOCATION:Kintauden nuorisoseurantalo Koivikko\, Räihäntie 35\, Kintaus\, 41920\, Suomi
END:VEVENT
BEGIN:VEVENT
DTSTART;TZID=UTC:20241109T150000
DTEND;TZID=UTC:20241109T170000
DTSTAMP:20260426T015131
CREATED:20241109T152416Z
LAST-MODIFIED:20241109T152416Z
UID:10000295-1731164400-1731171600@www.kintaudennuorisoseura.fi
SUMMARY:Kauneimmat joululaulut
DESCRIPTION:Joulumyyjäisten jälkeen jatkamme kauneimmilla joululauluilla mukana kanttori Leena.
URL:https://www.kintaudennuorisoseura.fi/tapahtuma/kauneimmat-joululaulut-2/
END:VEVENT
BEGIN:VEVENT
DTSTART;TZID=UTC:20241108T180000
DTEND;TZID=UTC:20241108T180000
DTSTAMP:20260426T015131
CREATED:20241030T124304Z
LAST-MODIFIED:20241102T142454Z
UID:10000293-1731088800-1731088800@www.kintaudennuorisoseura.fi
SUMMARY:Kaikille avoin keskustelutilaisuus
DESCRIPTION:Keskustelemme SDP:n linjasta ja tavoitteista ensi kevään kunta- ja aluevaaleissa sekä muista politiikan ajankohtaisista asioista. Keskustelua johtaa SDP:n Keski-Suomen piiristä Merja Närhi.  Vieraana kansanedustaja Piritta Rantanen. \nPaikalla kunnanvaltuuston demarijäsenet Paula Vulli\, Miska Leinonen ja Satu Kytölehto\, joka vaikuttaa myös aluevaltuustossa. Heiltä saat tietoa\, millaista on osallistua kunnalliseen ja alueelliseen päätöksentekoon. \nHaemme uusia yhteisten asioiden hoitamisesta kiinnostuneita jäseniä. Kiinnostaako sinua lähteä ehdokkaaksi ensi kevään vaaleihin. Tule esittämään kysymyksiä ja keskustelemaan kahvi/tee kupposen ääressä. \nTervetuloa! \nPetäjävesi-Kintaus Työväenyhdistys ry.
URL:https://www.kintaudennuorisoseura.fi/tapahtuma/yksityistilaisuus-14/
LOCATION:Kintauden nuorisoseurantalo Koivikko\, Räihäntie 35\, Kintaus\, 41920\, Suomi
END:VEVENT
BEGIN:VEVENT
DTSTART;TZID=UTC:20241107T150000
DTEND;TZID=UTC:20241107T170000
DTSTAMP:20260426T015131
CREATED:20241107T125715Z
LAST-MODIFIED:20241107T125715Z
UID:10000294-1730991600-1730998800@www.kintaudennuorisoseura.fi
SUMMARY:Kauneimmat joululaulut
DESCRIPTION:
URL:https://www.kintaudennuorisoseura.fi/tapahtuma/kauneimmat-joululaulut/
LOCATION:Kintauden nuorisoseurantalo Koivikko\, Räihäntie 35\, Kintaus\, 41920\, Suomi
END:VEVENT
BEGIN:VEVENT
DTSTART;TZID=UTC:20241106T170000
DTEND;TZID=UTC:20241106T190000
DTSTAMP:20260426T015131
CREATED:20241022T141938Z
LAST-MODIFIED:20241022T142547Z
UID:10000287-1730912400-1730919600@www.kintaudennuorisoseura.fi
SUMMARY:Peli-ilta
DESCRIPTION:-Tervetuloa pelailemaan aina parittoman viikon keskiviikkona 17-19. Aikuisille kahvia tarjolla.
URL:https://www.kintaudennuorisoseura.fi/tapahtuma/peli-ilta-18/2024-11-06/
LOCATION:Kintauden nuorisoseurantalo Koivikko\, Räihäntie 35\, Kintaus\, 41920\, Suomi
CATEGORIES:Peli-ilta
END:VEVENT
BEGIN:VEVENT
DTSTART;TZID=UTC:20241104T140000
DTEND;TZID=UTC:20241104T163000
DTSTAMP:20260426T015131
CREATED:20240804T132705Z
LAST-MODIFIED:20240804T132705Z
UID:10000141-1730728800-1730737800@www.kintaudennuorisoseura.fi
SUMMARY:Maanataikahvila
DESCRIPTION:Maanantaikahvilassa tarjolla suolaista ja makeaa herkkua sekä viileitä juomia ja tietysti kahvia\, teetä ja kaakaota. Myös karkkikaapin ovet ovat auki jos makean himo iskee. \nTervetuloa.
URL:https://www.kintaudennuorisoseura.fi/tapahtuma/maanataikahvila/
LOCATION:Kintauden nuorisoseurantalo Koivikko\, Räihäntie 35\, Kintaus\, 41920\, Suomi
CATEGORIES:Kahvila
ATTACH;FMTTYPE=image/jpeg:https://www.kintaudennuorisoseura.fi/wp-content/uploads/2024/08/Maanantai-4.jpg
END:VEVENT
BEGIN:VEVENT
DTSTART;TZID=UTC:20241023T170000
DTEND;TZID=UTC:20241023T190000
DTSTAMP:20260426T015131
CREATED:20240728T120802Z
LAST-MODIFIED:20240728T120802Z
UID:10000136-1729702800-1729710000@www.kintaudennuorisoseura.fi
SUMMARY:Peli-ilta
DESCRIPTION:Peli-illat järjestetään parittomien viikkojen keskiviikkoina kello 17-19.
URL:https://www.kintaudennuorisoseura.fi/tapahtuma/peli-ilta-17/2024-10-23/
LOCATION:Kintauden nuorisoseurantalo Koivikko\, Räihäntie 35\, Kintaus\, 41920\, Suomi
END:VEVENT
END:VCALENDAR