BEGIN:VCALENDAR
VERSION:2.0
PRODID:-//Kintauden nuorisoseura - ECPv6.15.0.1//NONSGML v1.0//EN
CALSCALE:GREGORIAN
METHOD:PUBLISH
X-ORIGINAL-URL:https://www.kintaudennuorisoseura.fi
X-WR-CALDESC:Tapahtumat Kintauden nuorisoseura
REFRESH-INTERVAL;VALUE=DURATION:PT1H
X-Robots-Tag:noindex
X-PUBLISHED-TTL:PT1H
BEGIN:VTIMEZONE
TZID:UTC
BEGIN:STANDARD
TZOFFSETFROM:+0000
TZOFFSETTO:+0000
TZNAME:UTC
DTSTART:20260101T000000
END:STANDARD
END:VTIMEZONE
BEGIN:VEVENT
DTSTART;TZID=UTC:20260111T130000
DTEND;TZID=UTC:20260111T170000
DTSTAMP:20260426T014821
CREATED:20260106T091305Z
LAST-MODIFIED:20260106T091305Z
UID:10000728-1768136400-1768150800@www.kintaudennuorisoseura.fi
SUMMARY:Huutokauppa
DESCRIPTION:Näyttötunti 13.00 Huutaminen alkaa 14.00. Jyväskylän tyhjennysapu laittaa kuvia myytävistä tuotteista muutamaa päivää aikaisemmin omille facebook sivuille.
URL:https://www.kintaudennuorisoseura.fi/tapahtuma/huutokauppa-22/
LOCATION:Kintauden nuorisoseurantalo Koivikko\, Räihäntie 35\, Kintaus\, 41920\, Suomi
ORGANIZER;CN="Jyv%C3%A4skyl%C3%A4n tyhjennysapu":MAILTO:tyhjennyspalvelut@gmail.com
END:VEVENT
BEGIN:VEVENT
DTSTART;TZID=UTC:20260125T080000
DTEND;TZID=UTC:20260125T170000
DTSTAMP:20260426T014821
CREATED:20260106T091403Z
LAST-MODIFIED:20260110T190203Z
UID:10000729-1769328000-1769360400@www.kintaudennuorisoseura.fi
SUMMARY:Huutokauppa
DESCRIPTION:Huutaminen alkaa 14.00 Näyttötunti 13.00. Nuorisoseuran kahvio palvelee koko tapahtuman ajan. Jyväskylän tyhjennysapu laittaa kuvia myytävistä tuotteista facebookiin.
URL:https://www.kintaudennuorisoseura.fi/tapahtuma/yksityistilaisuus-32/
LOCATION:Kintauden nuorisoseurantalo Koivikko\, Räihäntie 35\, Kintaus\, 41920\, Suomi
CATEGORIES:Huutokauppa
ORGANIZER;CN="Jyv%C3%A4skyl%C3%A4n tyhjennysapu":MAILTO:tyhjennyspalvelut@gmail.com
END:VEVENT
BEGIN:VEVENT
DTSTART;TZID=UTC:20260208T130000
DTEND;TZID=UTC:20260208T170000
DTSTAMP:20260426T014821
CREATED:20260129T071120Z
LAST-MODIFIED:20260129T071120Z
UID:10000730-1770555600-1770570000@www.kintaudennuorisoseura.fi
SUMMARY:Huutokauppa
DESCRIPTION:
URL:https://www.kintaudennuorisoseura.fi/tapahtuma/huutokauppa-23/
CATEGORIES:Huutokauppa
END:VEVENT
BEGIN:VEVENT
DTSTART;TZID=UTC:20260214T080000
DTEND;TZID=UTC:20260214T170000
DTSTAMP:20260426T014821
CREATED:20251126T142237Z
LAST-MODIFIED:20251126T142237Z
UID:10000727-1771056000-1771088400@www.kintaudennuorisoseura.fi
SUMMARY:Yksityistilaisuus
DESCRIPTION:
URL:https://www.kintaudennuorisoseura.fi/tapahtuma/yksityistilaisuus-31/
END:VEVENT
BEGIN:VEVENT
DTSTART;TZID=UTC:20260301T130000
DTEND;TZID=UTC:20260301T170000
DTSTAMP:20260426T014821
CREATED:20260129T071153Z
LAST-MODIFIED:20260129T071153Z
UID:10000731-1772370000-1772384400@www.kintaudennuorisoseura.fi
SUMMARY:Huutokauppa
DESCRIPTION:
URL:https://www.kintaudennuorisoseura.fi/tapahtuma/huutokauppa-24/
END:VEVENT
BEGIN:VEVENT
DTSTART;TZID=UTC:20260329T080000
DTEND;TZID=UTC:20260329T170000
DTSTAMP:20260426T014821
CREATED:20260129T071212Z
LAST-MODIFIED:20260129T071212Z
UID:10000732-1774771200-1774803600@www.kintaudennuorisoseura.fi
SUMMARY:Huutokauppa
DESCRIPTION:
URL:https://www.kintaudennuorisoseura.fi/tapahtuma/huutokauppa-25/
END:VEVENT
END:VCALENDAR