BEGIN:VCALENDAR
VERSION:2.0
PRODID:-//Kintauden nuorisoseura - ECPv6.15.0.1//NONSGML v1.0//EN
CALSCALE:GREGORIAN
METHOD:PUBLISH
X-WR-CALNAME:Kintauden nuorisoseura
X-ORIGINAL-URL:https://www.kintaudennuorisoseura.fi
X-WR-CALDESC:Tapahtumat Kintauden nuorisoseura
REFRESH-INTERVAL;VALUE=DURATION:PT1H
X-Robots-Tag:noindex
X-PUBLISHED-TTL:PT1H
BEGIN:VTIMEZONE
TZID:UTC
BEGIN:STANDARD
TZOFFSETFROM:+0000
TZOFFSETTO:+0000
TZNAME:UTC
DTSTART:20250101T000000
END:STANDARD
END:VTIMEZONE
BEGIN:VEVENT
DTSTART;TZID=UTC:20250921T080000
DTEND;TZID=UTC:20250921T170000
DTSTAMP:20260426T025910
CREATED:20250829T144419Z
LAST-MODIFIED:20250829T144419Z
UID:10000451-1758441600-1758474000@www.kintaudennuorisoseura.fi
SUMMARY:Yksityistilaisuus
DESCRIPTION:
URL:https://www.kintaudennuorisoseura.fi/tapahtuma/yksityistilaisuus-28/
END:VEVENT
BEGIN:VEVENT
DTSTART;TZID=UTC:20250914T140000
DTEND;TZID=UTC:20250914T170000
DTSTAMP:20260426T025910
CREATED:20250827T153652Z
LAST-MODIFIED:20250827T153703Z
UID:10000450-1757858400-1757869200@www.kintaudennuorisoseura.fi
SUMMARY:Huutokauppa
DESCRIPTION:
URL:https://www.kintaudennuorisoseura.fi/tapahtuma/huutokauppa-18/
CATEGORIES:Huutokauppa
END:VEVENT
BEGIN:VEVENT
DTSTART;TZID=UTC:20250913T160000
DTEND;TZID=UTC:20250913T200000
DTSTAMP:20260426T025910
CREATED:20250827T153510Z
LAST-MODIFIED:20250827T153510Z
UID:10000449-1757779200-1757793600@www.kintaudennuorisoseura.fi
SUMMARY:Karaoke
DESCRIPTION:
URL:https://www.kintaudennuorisoseura.fi/tapahtuma/karaoke-5/
LOCATION:Kintauden nuorisoseurantalo Koivikko\, Räihäntie 35\, Kintaus\, 41920\, Suomi
END:VEVENT
BEGIN:VEVENT
DTSTART;TZID=UTC:20250906T100000
DTEND;TZID=UTC:20250906T140000
DTSTAMP:20260426T025910
CREATED:20250508T055442Z
LAST-MODIFIED:20250827T152740Z
UID:10000427-1757152800-1757167200@www.kintaudennuorisoseura.fi
SUMMARY:Koko perheen tapahtuma
DESCRIPTION:Yhteistyössä Pettuveden marttojen kanssa järjestämme koko perheen tapahtuman.
URL:https://www.kintaudennuorisoseura.fi/tapahtuma/koko-perheen-tapahtuma/
LOCATION:Kintauden nuorisoseurantalo Koivikko\, Räihäntie 35\, Kintaus\, 41920\, Suomi
ATTACH;FMTTYPE=image/jpeg:https://www.kintaudennuorisoseura.fi/wp-content/uploads/2025/05/ca6b6768-5542-4011-a7c1-fc2a343df559.jpg
END:VEVENT
BEGIN:VEVENT
DTSTART;TZID=UTC:20250829T080000
DTEND;TZID=UTC:20250831T230000
DTSTAMP:20260426T025910
CREATED:20240814T173417Z
LAST-MODIFIED:20250216T132529Z
UID:10000144-1756454400-1756681200@www.kintaudennuorisoseura.fi
SUMMARY:Yksityistilaisuus
DESCRIPTION:Talo varattu yksityistilaisuus
URL:https://www.kintaudennuorisoseura.fi/tapahtuma/yksityistilaisuus-10/
LOCATION:Kintauden nuorisoseurantalo Koivikko\, Räihäntie 35\, Kintaus\, 41920\, Suomi
END:VEVENT
BEGIN:VEVENT
DTSTART;TZID=UTC:20250824T130000
DTEND;TZID=UTC:20250824T170000
DTSTAMP:20260426T025910
CREATED:20250810T094131Z
LAST-MODIFIED:20250810T094131Z
UID:10000447-1756040400-1756054800@www.kintaudennuorisoseura.fi
SUMMARY:Huutokauppa
DESCRIPTION:Näyttö 13.00 ja huutaminen alkaa 14.00. Nuorisoseuran kahvio palvelee koko tapahtuman ajan.  Jyväskylän tyhjennysapu laittaa kuvia myytävistä Facebookissa.
URL:https://www.kintaudennuorisoseura.fi/tapahtuma/huutokauppa-17/
LOCATION:Kintauden nuorisoseurantalo Koivikko\, Räihäntie 35\, Kintaus\, 41920\, Suomi
CATEGORIES:Huutokauppa
ORGANIZER;CN="Jyv%C3%A4skyl%C3%A4n tyhjennysapu":MAILTO:tyhjennyspalvelut@gmail.com
END:VEVENT
BEGIN:VEVENT
DTSTART;TZID=UTC:20250822T200000
DTEND;TZID=UTC:20250822T200000
DTSTAMP:20260426T025910
CREATED:20250807T102534Z
LAST-MODIFIED:20250809T042242Z
UID:10000440-1755892800-1755892800@www.kintaudennuorisoseura.fi
SUMMARY:Tanssit esiintyjänä Minna Äikäs band
DESCRIPTION:
URL:https://www.kintaudennuorisoseura.fi/tapahtuma/tanssit-esiintyjana-minna-aikas-band/2025-08-22/
LOCATION:Kintauden nuorisoseurantalo Koivikko\, Räihäntie 35\, Kintaus\, 41920\, Suomi
CATEGORIES:Tanssit
ATTACH;FMTTYPE=image/jpeg:https://www.kintaudennuorisoseura.fi/wp-content/uploads/2025/08/Tanssit-4.jpg
END:VEVENT
BEGIN:VEVENT
DTSTART;TZID=UTC:20250820T170000
DTEND;TZID=UTC:20250820T190000
DTSTAMP:20260426T025910
CREATED:20250808T035519Z
LAST-MODIFIED:20250808T035519Z
UID:10000442-1755709200-1755716400@www.kintaudennuorisoseura.fi
SUMMARY:Peli-ilta
DESCRIPTION:
URL:https://www.kintaudennuorisoseura.fi/tapahtuma/peli-ilta-25/
LOCATION:Kintauden nuorisoseurantalo Koivikko\, Räihäntie 35\, Kintaus\, 41920\, Suomi
CATEGORIES:Peli-ilta
END:VEVENT
BEGIN:VEVENT
DTSTART;TZID=UTC:20250813T170000
DTEND;TZID=UTC:20250813T190000
DTSTAMP:20260426T025910
CREATED:20250808T035346Z
LAST-MODIFIED:20250808T035346Z
UID:10000441-1755104400-1755111600@www.kintaudennuorisoseura.fi
SUMMARY:Peli-ilta
DESCRIPTION:Peli-illat alkaa taas pyörimään. Nyt pelaillaan joka viikko.
URL:https://www.kintaudennuorisoseura.fi/tapahtuma/peli-ilta-24/
LOCATION:Kintauden nuorisoseurantalo Koivikko\, Räihäntie 35\, Kintaus\, 41920\, Suomi
END:VEVENT
BEGIN:VEVENT
DTSTART;TZID=UTC:20250810T080000
DTEND;TZID=UTC:20250810T170000
DTSTAMP:20260426T025910
CREATED:20250731T153900Z
LAST-MODIFIED:20250731T153900Z
UID:10000439-1754812800-1754845200@www.kintaudennuorisoseura.fi
SUMMARY:Huutokauppa
DESCRIPTION:Näyttö 13.00 ja huutaminen alkaa 14.00. Nuorisoseuran kahvio palvelee koko tapahtuman ajan.  Jyväskylän tyhjennysapu laittaa kuvia myytävistä Facebookissa.
URL:https://www.kintaudennuorisoseura.fi/tapahtuma/huutokauppa-16/
LOCATION:Kintauden nuorisoseurantalo Koivikko\, Räihäntie 35\, Kintaus\, 41920\, Suomi
CATEGORIES:Huutokauppa
ORGANIZER;CN="Jyv%C3%A4skyl%C3%A4n tyhjennysapu":MAILTO:tyhjennyspalvelut@gmail.com
END:VEVENT
BEGIN:VEVENT
DTSTART;TZID=UTC:20250720T130000
DTEND;TZID=UTC:20250720T170000
DTSTAMP:20260426T025910
CREATED:20250629T201534Z
LAST-MODIFIED:20250629T201643Z
UID:10000437-1753016400-1753030800@www.kintaudennuorisoseura.fi
SUMMARY:Huutokauppa
DESCRIPTION:Näyttö 13.00 ja huutaminen alkaa 14.00. Nuorisoseuran kahvio palvelee koko tapahtuman ajan.  Jyväskylän tyhjennysapu laittaa kuvia myytävistä Facebookissa.
URL:https://www.kintaudennuorisoseura.fi/tapahtuma/huutokauppa-15/
LOCATION:Kintauden nuorisoseurantalo Koivikko\, Räihäntie 35\, Kintaus\, 41920\, Suomi
ORGANIZER;CN="Jyv%C3%A4skyl%C3%A4n tyhjennysapu":MAILTO:tyhjennyspalvelut@gmail.com
END:VEVENT
BEGIN:VEVENT
DTSTART;TZID=UTC:20250719T160000
DTEND;TZID=UTC:20250719T203000
DTSTAMP:20260426T025910
CREATED:20250629T201342Z
LAST-MODIFIED:20250629T201342Z
UID:10000436-1752940800-1752957000@www.kintaudennuorisoseura.fi
SUMMARY:Karaoketanssit
DESCRIPTION:
URL:https://www.kintaudennuorisoseura.fi/tapahtuma/karaoketanssit-12/
LOCATION:Kintauden nuorisoseurantalo Koivikko\, Räihäntie 35\, Kintaus\, 41920\, Suomi
CATEGORIES:Kahvila,Karaoke tanssit
ATTACH;FMTTYPE=image/jpeg:https://www.kintaudennuorisoseura.fi/wp-content/uploads/2025/06/Karaoke-14.jpg
END:VEVENT
BEGIN:VEVENT
DTSTART;TZID=UTC:20250709T120000
DTEND;TZID=UTC:20250709T170000
DTSTAMP:20260426T025910
CREATED:20250712T193951Z
LAST-MODIFIED:20250712T193951Z
UID:10000438-1752062400-1752080400@www.kintaudennuorisoseura.fi
SUMMARY:yksityistilaisuus
DESCRIPTION:
URL:https://www.kintaudennuorisoseura.fi/tapahtuma/yksityistilaisuus-27/
END:VEVENT
BEGIN:VEVENT
DTSTART;TZID=UTC:20250703T120000
DTEND;TZID=UTC:20250703T160000
DTSTAMP:20260426T025910
CREATED:20250629T201006Z
LAST-MODIFIED:20250629T201006Z
UID:10000435-1751544000-1751558400@www.kintaudennuorisoseura.fi
SUMMARY:Taidemaalaus koululaisille
DESCRIPTION:
URL:https://www.kintaudennuorisoseura.fi/tapahtuma/taidemaalaus-koululaisille/
LOCATION:Kintauden nuorisoseurantalo Koivikko\, Räihäntie 35\, Kintaus\, 41920\, Suomi
CATEGORIES:Kurssit,maalauskurssi
ATTACH;FMTTYPE=image/jpeg:https://www.kintaudennuorisoseura.fi/wp-content/uploads/2025/06/Taidemaalauskurss-3.jpg
END:VEVENT
BEGIN:VEVENT
DTSTART;TZID=UTC:20250701T120000
DTEND;TZID=UTC:20250701T170000
DTSTAMP:20260426T025910
CREATED:20250629T200751Z
LAST-MODIFIED:20250629T200751Z
UID:10000434-1751371200-1751389200@www.kintaudennuorisoseura.fi
SUMMARY:Taidekurssi
DESCRIPTION:
URL:https://www.kintaudennuorisoseura.fi/tapahtuma/taidekurssi-2/
LOCATION:Kintauden nuorisoseurantalo Koivikko\, Räihäntie 35\, Kintaus\, 41920\, Suomi
CATEGORIES:Kurssit,maalauskurssi
ATTACH;FMTTYPE=image/jpeg:https://www.kintaudennuorisoseura.fi/wp-content/uploads/2025/06/Taidekurssi-3.jpg
END:VEVENT
BEGIN:VEVENT
DTSTART;TZID=UTC:20250628T160000
DTEND;TZID=UTC:20250628T210000
DTSTAMP:20260426T025910
CREATED:20250609T170240Z
LAST-MODIFIED:20250609T170240Z
UID:10000433-1751126400-1751144400@www.kintaudennuorisoseura.fi
SUMMARY:Karaoketanssit
DESCRIPTION:Matin johdolla tanssitaan  ja lauletaan! \nNuorisoseuran kahvio palvelee koko tapahtuman ajan. \nLiput 8€. Kortilla 8\,50€
URL:https://www.kintaudennuorisoseura.fi/tapahtuma/karaoketanssit-11/
LOCATION:Kintauden nuorisoseurantalo Koivikko\, Räihäntie 35\, Kintaus\, 41920\, Suomi
CATEGORIES:Karaoke tanssit
ATTACH;FMTTYPE=image/jpeg:https://www.kintaudennuorisoseura.fi/wp-content/uploads/2025/06/Karaoke-13.jpg
END:VEVENT
BEGIN:VEVENT
DTSTART;TZID=UTC:20250618T130000
DTEND;TZID=UTC:20250618T170000
DTSTAMP:20260426T025910
CREATED:20250605T034141Z
LAST-MODIFIED:20250605T034141Z
UID:10000432-1750251600-1750266000@www.kintaudennuorisoseura.fi
SUMMARY:yksityistilaisuus
DESCRIPTION:TYHY päivä
URL:https://www.kintaudennuorisoseura.fi/tapahtuma/yksityistilaisuus-26/
LOCATION:Kintauden nuorisoseurantalo Koivikko\, Räihäntie 35\, Kintaus\, 41920\, Suomi
END:VEVENT
BEGIN:VEVENT
DTSTART;TZID=UTC:20250611T130000
DTEND;TZID=UTC:20250611T170000
DTSTAMP:20260426T025910
CREATED:20250216T131433Z
LAST-MODIFIED:20250605T034024Z
UID:10000405-1749646800-1749661200@www.kintaudennuorisoseura.fi
SUMMARY:Yksityistilaisuus
DESCRIPTION:TYHY päivä
URL:https://www.kintaudennuorisoseura.fi/tapahtuma/yksityistilaisuus-18/
LOCATION:Kintauden nuorisoseurantalo Koivikko\, Räihäntie 35\, Kintaus\, 41920\, Suomi
END:VEVENT
BEGIN:VEVENT
DTSTART;TZID=UTC:20250608T130000
DTEND;TZID=UTC:20250608T170000
DTSTAMP:20260426T025910
CREATED:20250514T055928Z
LAST-MODIFIED:20250514T055928Z
UID:10000430-1749387600-1749402000@www.kintaudennuorisoseura.fi
SUMMARY:Huutokauppa
DESCRIPTION:Näyttö 13.00 ja huutaminen alkaa 14.00. Nuorisoseuran kahvio palvelee koko tapahtuman ajan.  Jyväskylän tyhjennysapu laittaa kuvia myytävistä Facebookissa.
URL:https://www.kintaudennuorisoseura.fi/tapahtuma/huutokauppa-14/
LOCATION:Kintauden nuorisoseurantalo Koivikko\, Räihäntie 35\, Kintaus\, 41920\, Suomi
CATEGORIES:Huutokauppa
ORGANIZER;CN="Jyv%C3%A4skyl%C3%A4n tyhjennysapu":MAILTO:tyhjennyspalvelut@gmail.com
END:VEVENT
BEGIN:VEVENT
DTSTART;VALUE=DATE:20250607
DTEND;VALUE=DATE:20250608
DTSTAMP:20260426T025910
CREATED:20250216T131340Z
LAST-MODIFIED:20250216T131340Z
UID:10000404-1749254400-1749340799@www.kintaudennuorisoseura.fi
SUMMARY:Yksityistilaisuus
DESCRIPTION:Ristiäiset
URL:https://www.kintaudennuorisoseura.fi/tapahtuma/yksityistilaisuus-17/
LOCATION:Kintauden nuorisoseurantalo Koivikko\, Räihäntie 35\, Kintaus\, 41920\, Suomi
END:VEVENT
BEGIN:VEVENT
DTSTART;TZID=UTC:20250606T170000
DTEND;TZID=UTC:20250606T210000
DTSTAMP:20260426T025910
CREATED:20250523T043753Z
LAST-MODIFIED:20250523T043753Z
UID:10000431-1749229200-1749243600@www.kintaudennuorisoseura.fi
SUMMARY:Juha Mäkinen & Kalevi Suntila duo
DESCRIPTION:Tervetuloa nauttimaan vanhan ajan lavatanssitunnelmasta. \nNuorisoseuran kahvio palvelee tapahtuman ajan. \nLiput: 10€
URL:https://www.kintaudennuorisoseura.fi/tapahtuma/juha-makinen-kalevi-suntila-duo/
LOCATION:Kintauden nuorisoseurantalo Koivikko\, Räihäntie 35\, Kintaus\, 41920\, Suomi
END:VEVENT
BEGIN:VEVENT
DTSTART;TZID=UTC:20250531T080000
DTEND;TZID=UTC:20250531T170000
DTSTAMP:20260426T025910
CREATED:20250327T130310Z
LAST-MODIFIED:20250327T130310Z
UID:10000417-1748678400-1748710800@www.kintaudennuorisoseura.fi
SUMMARY:Astiat 50:lle
DESCRIPTION:
URL:https://www.kintaudennuorisoseura.fi/tapahtuma/astiat-50lle/
LOCATION:Kintauden nuorisoseurantalo Koivikko\, Räihäntie 35\, Kintaus\, 41920\, Suomi
END:VEVENT
BEGIN:VEVENT
DTSTART;TZID=UTC:20250525T130000
DTEND;TZID=UTC:20250525T170000
DTSTAMP:20260426T025910
CREATED:20250514T055810Z
LAST-MODIFIED:20250514T055810Z
UID:10000429-1748178000-1748192400@www.kintaudennuorisoseura.fi
SUMMARY:Huutokauppa
DESCRIPTION:Näyttö 13.00 ja huutaminen alkaa 14.00. Nuorisoseuran kahvio palvelee koko tapahtuman ajan.  Jyväskylän tyhjennysapu laittaa kuvia myytävistä Facebookissa.
URL:https://www.kintaudennuorisoseura.fi/tapahtuma/huutokauppa-13/
LOCATION:Kintauden nuorisoseurantalo Koivikko\, Räihäntie 35\, Kintaus\, 41920\, Suomi
CATEGORIES:Huutokauppa
ORGANIZER;CN="Jyv%C3%A4skyl%C3%A4n tyhjennysapu":MAILTO:tyhjennyspalvelut@gmail.com
END:VEVENT
BEGIN:VEVENT
DTSTART;TZID=UTC:20250524T160000
DTEND;TZID=UTC:20250524T210000
DTSTAMP:20260426T025910
CREATED:20250427T204755Z
LAST-MODIFIED:20250427T204755Z
UID:10000426-1748102400-1748120400@www.kintaudennuorisoseura.fi
SUMMARY:Karaoketanssit
DESCRIPTION:Lauantai Karaoke tanssit\n\n\nAlkaen 16.00 HUOM!\n\n\n\nLippu 8€ käteisellä tai 8\,50 kortilla\n\n\n\nLaulattamassa Matti\n\n\nTervetuloa!
URL:https://www.kintaudennuorisoseura.fi/tapahtuma/karaoketanssit-10/
LOCATION:Kintauden nuorisoseurantalo Koivikko\, Räihäntie 35\, Kintaus\, 41920\, Suomi
CATEGORIES:Karaoke tanssit
ATTACH;FMTTYPE=image/jpeg:https://www.kintaudennuorisoseura.fi/wp-content/uploads/2025/04/Karaoke-12.jpg
END:VEVENT
BEGIN:VEVENT
DTSTART;TZID=UTC:20250517T080000
DTEND;TZID=UTC:20250517T170000
DTSTAMP:20260426T025910
CREATED:20250508T055651Z
LAST-MODIFIED:20250508T055651Z
UID:10000428-1747468800-1747501200@www.kintaudennuorisoseura.fi
SUMMARY:Yksityistilaisuus
DESCRIPTION:
URL:https://www.kintaudennuorisoseura.fi/tapahtuma/yksityistilaisuus-25/
LOCATION:Kintauden nuorisoseurantalo Koivikko\, Räihäntie 35\, Kintaus\, 41920\, Suomi
END:VEVENT
BEGIN:VEVENT
DTSTART;TZID=UTC:20250510T130000
DTEND;TZID=UTC:20250510T170000
DTSTAMP:20260426T025910
CREATED:20250416T035737Z
LAST-MODIFIED:20250416T040033Z
UID:10000424-1746882000-1746896400@www.kintaudennuorisoseura.fi
SUMMARY:Huutokauppa
DESCRIPTION:Näyttötunti alkaa: 13:00 \nHuutokauppa 14:00 \nTervetuloa
URL:https://www.kintaudennuorisoseura.fi/tapahtuma/yksityistilaisuus-23/
LOCATION:Kintauden nuorisoseurantalo Koivikko\, Räihäntie 35\, Kintaus\, 41920\, Suomi
CATEGORIES:Huutokauppa
ORGANIZER;CN="Jyv%C3%A4skyl%C3%A4n tyhjennysapu":MAILTO:tyhjennyspalvelut@gmail.com
END:VEVENT
BEGIN:VEVENT
DTSTART;TZID=UTC:20250429T180000
DTEND;TZID=UTC:20250429T190000
DTSTAMP:20260426T025910
CREATED:20250416T040237Z
LAST-MODIFIED:20250416T040237Z
UID:10000425-1745949600-1745953200@www.kintaudennuorisoseura.fi
SUMMARY:Yksityistilaisuus
DESCRIPTION:
URL:https://www.kintaudennuorisoseura.fi/tapahtuma/yksityistilaisuus-24/
END:VEVENT
BEGIN:VEVENT
DTSTART;VALUE=DATE:20250427
DTEND;VALUE=DATE:20250428
DTSTAMP:20260426T025910
CREATED:20250317T182952Z
LAST-MODIFIED:20250317T182952Z
UID:10000416-1745712000-1745798399@www.kintaudennuorisoseura.fi
SUMMARY:Yksityistilaisuus
DESCRIPTION:Popdog
URL:https://www.kintaudennuorisoseura.fi/tapahtuma/yksityistilaisuus-22/
LOCATION:Kintauden nuorisoseurantalo Koivikko\, Räihäntie 35\, Kintaus\, 41920\, Suomi
END:VEVENT
BEGIN:VEVENT
DTSTART;TZID=UTC:20250426T160000
DTEND;TZID=UTC:20250426T203000
DTSTAMP:20260426T025910
CREATED:20250331T181045Z
LAST-MODIFIED:20250331T181045Z
UID:10000422-1745683200-1745699400@www.kintaudennuorisoseura.fi
SUMMARY:Karaoketanssit
DESCRIPTION:Lauantai Karaoke tanssit\n \n\nAlkaen 16.00 HUOM!\n\n \n\nLippu 8€ käteisellä tai 8\,50 kortilla\n\n \n\nLaulattamassa Matti\n\n \nTervetuloa!
URL:https://www.kintaudennuorisoseura.fi/tapahtuma/karaoketanssit-9/
LOCATION:Kintauden nuorisoseurantalo Koivikko\, Räihäntie 35\, Kintaus\, 41920\, Suomi
CATEGORIES:Karaoke tanssit
ATTACH;FMTTYPE=image/jpeg:https://www.kintaudennuorisoseura.fi/wp-content/uploads/2025/03/Karaoke-11.jpg
END:VEVENT
BEGIN:VEVENT
DTSTART;TZID=UTC:20250426T100000
DTEND;TZID=UTC:20250426T150000
DTSTAMP:20260426T025910
CREATED:20250409T054456Z
LAST-MODIFIED:20250416T035616Z
UID:10000423-1745661600-1745679600@www.kintaudennuorisoseura.fi
SUMMARY:Kevätkihaus Kintaudella
DESCRIPTION:Kirppari paikkavaraus.
URL:https://www.kintaudennuorisoseura.fi/tapahtuma/kevatkihaus-kintaudella/
LOCATION:Kintauden nuorisoseurantalo Koivikko\, Räihäntie 35\, Kintaus\, 41920\, Suomi
ATTACH;FMTTYPE=image/jpeg:https://www.kintaudennuorisoseura.fi/wp-content/uploads/2025/04/489671860_1081053950716816_2634344171967644458_n1-1.jpg
END:VEVENT
END:VCALENDAR