BEGIN:VCALENDAR
VERSION:2.0
PRODID:-//Kintauden nuorisoseura - ECPv6.15.0.1//NONSGML v1.0//EN
CALSCALE:GREGORIAN
METHOD:PUBLISH
X-ORIGINAL-URL:https://www.kintaudennuorisoseura.fi
X-WR-CALDESC:Tapahtumat Kintauden nuorisoseura
REFRESH-INTERVAL;VALUE=DURATION:PT1H
X-Robots-Tag:noindex
X-PUBLISHED-TTL:PT1H
BEGIN:VTIMEZONE
TZID:UTC
BEGIN:STANDARD
TZOFFSETFROM:+0000
TZOFFSETTO:+0000
TZNAME:UTC
DTSTART:20240101T000000
END:STANDARD
END:VTIMEZONE
BEGIN:VEVENT
DTSTART;TZID=UTC:20260125T080000
DTEND;TZID=UTC:20260125T170000
DTSTAMP:20260426T013333
CREATED:20260106T091403Z
LAST-MODIFIED:20260110T190203Z
UID:10000729-1769328000-1769360400@www.kintaudennuorisoseura.fi
SUMMARY:Huutokauppa
DESCRIPTION:Huutaminen alkaa 14.00 Näyttötunti 13.00. Nuorisoseuran kahvio palvelee koko tapahtuman ajan. Jyväskylän tyhjennysapu laittaa kuvia myytävistä tuotteista facebookiin.
URL:https://www.kintaudennuorisoseura.fi/tapahtuma/yksityistilaisuus-32/
LOCATION:Kintauden nuorisoseurantalo Koivikko\, Räihäntie 35\, Kintaus\, 41920\, Suomi
CATEGORIES:Huutokauppa
ORGANIZER;CN="Jyv%C3%A4skyl%C3%A4n tyhjennysapu":MAILTO:tyhjennyspalvelut@gmail.com
END:VEVENT
BEGIN:VEVENT
DTSTART;TZID=UTC:20260111T130000
DTEND;TZID=UTC:20260111T170000
DTSTAMP:20260426T013333
CREATED:20260106T091305Z
LAST-MODIFIED:20260106T091305Z
UID:10000728-1768136400-1768150800@www.kintaudennuorisoseura.fi
SUMMARY:Huutokauppa
DESCRIPTION:Näyttötunti 13.00 Huutaminen alkaa 14.00. Jyväskylän tyhjennysapu laittaa kuvia myytävistä tuotteista muutamaa päivää aikaisemmin omille facebook sivuille.
URL:https://www.kintaudennuorisoseura.fi/tapahtuma/huutokauppa-22/
LOCATION:Kintauden nuorisoseurantalo Koivikko\, Räihäntie 35\, Kintaus\, 41920\, Suomi
ORGANIZER;CN="Jyv%C3%A4skyl%C3%A4n tyhjennysapu":MAILTO:tyhjennyspalvelut@gmail.com
END:VEVENT
BEGIN:VEVENT
DTSTART;TZID=UTC:20251128T203000
DTEND;TZID=UTC:20251129T000000
DTSTAMP:20260426T013333
CREATED:20251104T102945Z
LAST-MODIFIED:20251104T103312Z
UID:10000725-1764361800-1764374400@www.kintaudennuorisoseura.fi
SUMMARY:Tanssit
DESCRIPTION:Kaikille avoimet tanssit bändin säestyksellä järjestää Petäjäveden Yrittäjät ry. \n  \nLiput 10 €
URL:https://www.kintaudennuorisoseura.fi/tapahtuma/yrittajien-tanssit/
LOCATION:Kintauden nuorisoseurantalo Koivikko\, Räihäntie 35\, Kintaus\, 41920\, Suomi
CATEGORIES:Tanssit
END:VEVENT
BEGIN:VEVENT
DTSTART;TZID=UTC:20251116T130000
DTEND;TZID=UTC:20251116T170000
DTSTAMP:20260426T013333
CREATED:20251104T102427Z
LAST-MODIFIED:20251104T102427Z
UID:10000724-1763298000-1763312400@www.kintaudennuorisoseura.fi
SUMMARY:Huutokauppa
DESCRIPTION:Näyttö 13 huutaminen alkaa 14 \nJyväskylän tyhjennysavun sivuilla kuvia myytävistä tuotteista
URL:https://www.kintaudennuorisoseura.fi/tapahtuma/huutokauppa-21/
LOCATION:Kintauden nuorisoseurantalo Koivikko\, Räihäntie 35\, Kintaus\, 41920\, Suomi
CATEGORIES:Huutokauppa
ORGANIZER;CN="Jyv%C3%A4skyl%C3%A4n tyhjennysapu":MAILTO:tyhjennyspalvelut@gmail.com
END:VEVENT
BEGIN:VEVENT
DTSTART;TZID=UTC:20251102T140000
DTEND;TZID=UTC:20251102T170000
DTSTAMP:20260426T013333
CREATED:20250919T060704Z
LAST-MODIFIED:20250919T060801Z
UID:10000715-1762092000-1762102800@www.kintaudennuorisoseura.fi
SUMMARY:Huutokauppa
DESCRIPTION:Näyttö 13 huutaminen alkaa 14 \nJyväskylän tyhjennysavun sivuilla kuvia myytävistä tuotteista
URL:https://www.kintaudennuorisoseura.fi/tapahtuma/huutokauppa-20/
LOCATION:Kintauden nuorisoseurantalo Koivikko\, Räihäntie 35\, Kintaus\, 41920\, Suomi
CATEGORIES:Huutokauppa
ORGANIZER;CN="Jyv%C3%A4skyl%C3%A4n tyhjennysapu":MAILTO:tyhjennyspalvelut@gmail.com
END:VEVENT
BEGIN:VEVENT
DTSTART;TZID=UTC:20251005T140000
DTEND;TZID=UTC:20251005T170000
DTSTAMP:20260426T013333
CREATED:20250918T070813Z
LAST-MODIFIED:20250918T070821Z
UID:10000714-1759672800-1759683600@www.kintaudennuorisoseura.fi
SUMMARY:huutokauppa
DESCRIPTION:Näyttö 13.00
URL:https://www.kintaudennuorisoseura.fi/tapahtuma/huutokauppa-19/
LOCATION:Kintauden nuorisoseurantalo Koivikko\, Räihäntie 35\, Kintaus\, 41920\, Suomi
CATEGORIES:Huutokauppa
ORGANIZER;CN="Jyv%C3%A4skyl%C3%A4n tyhjennysapu":MAILTO:tyhjennyspalvelut@gmail.com
END:VEVENT
BEGIN:VEVENT
DTSTART;TZID=UTC:20250928T180000
DTEND;TZID=UTC:20250928T200000
DTSTAMP:20260426T013333
CREATED:20250827T153353Z
LAST-MODIFIED:20250919T061551Z
UID:10000448-1759082400-1759089600@www.kintaudennuorisoseura.fi
SUMMARY:Veikko Ahvenaisen konsertti
DESCRIPTION:Kintauden nuorisoseura ylpeänä esittää. Veikko Ahvenaisen konsertti Kintauden nuorisoseuran talolla 28.9.25 klo 18:00 \nVeikko Ahvenainen on harmonikansoiton Suomen mestari vuodelta 1957. Maailman vanhin esiintyvä konserttihanuristi. Elävä Legenda. Tule\, näe\, koe uskomaton viihdekonsertti. Suosikkisäveliä\, sekä Veikon kertomuksia vuosien varrelta. \nVäliajalla nuorisoseuran maittava kahvio palvelee konserttivieraita.
URL:https://www.kintaudennuorisoseura.fi/tapahtuma/veikko-ahvenaisen-konsertti/
LOCATION:Kintauden nuorisoseurantalo Koivikko\, Räihäntie 35\, Kintaus\, 41920\, Suomi
CATEGORIES:Konsertti
END:VEVENT
BEGIN:VEVENT
DTSTART;TZID=UTC:20250824T130000
DTEND;TZID=UTC:20250824T170000
DTSTAMP:20260426T013333
CREATED:20250810T094131Z
LAST-MODIFIED:20250810T094131Z
UID:10000447-1756040400-1756054800@www.kintaudennuorisoseura.fi
SUMMARY:Huutokauppa
DESCRIPTION:Näyttö 13.00 ja huutaminen alkaa 14.00. Nuorisoseuran kahvio palvelee koko tapahtuman ajan.  Jyväskylän tyhjennysapu laittaa kuvia myytävistä Facebookissa.
URL:https://www.kintaudennuorisoseura.fi/tapahtuma/huutokauppa-17/
LOCATION:Kintauden nuorisoseurantalo Koivikko\, Räihäntie 35\, Kintaus\, 41920\, Suomi
CATEGORIES:Huutokauppa
ORGANIZER;CN="Jyv%C3%A4skyl%C3%A4n tyhjennysapu":MAILTO:tyhjennyspalvelut@gmail.com
END:VEVENT
BEGIN:VEVENT
DTSTART;TZID=UTC:20250810T080000
DTEND;TZID=UTC:20250810T170000
DTSTAMP:20260426T013333
CREATED:20250731T153900Z
LAST-MODIFIED:20250731T153900Z
UID:10000439-1754812800-1754845200@www.kintaudennuorisoseura.fi
SUMMARY:Huutokauppa
DESCRIPTION:Näyttö 13.00 ja huutaminen alkaa 14.00. Nuorisoseuran kahvio palvelee koko tapahtuman ajan.  Jyväskylän tyhjennysapu laittaa kuvia myytävistä Facebookissa.
URL:https://www.kintaudennuorisoseura.fi/tapahtuma/huutokauppa-16/
LOCATION:Kintauden nuorisoseurantalo Koivikko\, Räihäntie 35\, Kintaus\, 41920\, Suomi
CATEGORIES:Huutokauppa
ORGANIZER;CN="Jyv%C3%A4skyl%C3%A4n tyhjennysapu":MAILTO:tyhjennyspalvelut@gmail.com
END:VEVENT
BEGIN:VEVENT
DTSTART;TZID=UTC:20250720T130000
DTEND;TZID=UTC:20250720T170000
DTSTAMP:20260426T013333
CREATED:20250629T201534Z
LAST-MODIFIED:20250629T201643Z
UID:10000437-1753016400-1753030800@www.kintaudennuorisoseura.fi
SUMMARY:Huutokauppa
DESCRIPTION:Näyttö 13.00 ja huutaminen alkaa 14.00. Nuorisoseuran kahvio palvelee koko tapahtuman ajan.  Jyväskylän tyhjennysapu laittaa kuvia myytävistä Facebookissa.
URL:https://www.kintaudennuorisoseura.fi/tapahtuma/huutokauppa-15/
LOCATION:Kintauden nuorisoseurantalo Koivikko\, Räihäntie 35\, Kintaus\, 41920\, Suomi
ORGANIZER;CN="Jyv%C3%A4skyl%C3%A4n tyhjennysapu":MAILTO:tyhjennyspalvelut@gmail.com
END:VEVENT
BEGIN:VEVENT
DTSTART;TZID=UTC:20250719T160000
DTEND;TZID=UTC:20250719T203000
DTSTAMP:20260426T013333
CREATED:20250629T201342Z
LAST-MODIFIED:20250629T201342Z
UID:10000436-1752940800-1752957000@www.kintaudennuorisoseura.fi
SUMMARY:Karaoketanssit
DESCRIPTION:
URL:https://www.kintaudennuorisoseura.fi/tapahtuma/karaoketanssit-12/
LOCATION:Kintauden nuorisoseurantalo Koivikko\, Räihäntie 35\, Kintaus\, 41920\, Suomi
CATEGORIES:Kahvila,Karaoke tanssit
ATTACH;FMTTYPE=image/jpeg:https://www.kintaudennuorisoseura.fi/wp-content/uploads/2025/06/Karaoke-14.jpg
END:VEVENT
BEGIN:VEVENT
DTSTART;TZID=UTC:20250628T160000
DTEND;TZID=UTC:20250628T210000
DTSTAMP:20260426T013333
CREATED:20250609T170240Z
LAST-MODIFIED:20250609T170240Z
UID:10000433-1751126400-1751144400@www.kintaudennuorisoseura.fi
SUMMARY:Karaoketanssit
DESCRIPTION:Matin johdolla tanssitaan  ja lauletaan! \nNuorisoseuran kahvio palvelee koko tapahtuman ajan. \nLiput 8€. Kortilla 8\,50€
URL:https://www.kintaudennuorisoseura.fi/tapahtuma/karaoketanssit-11/
LOCATION:Kintauden nuorisoseurantalo Koivikko\, Räihäntie 35\, Kintaus\, 41920\, Suomi
CATEGORIES:Karaoke tanssit
ATTACH;FMTTYPE=image/jpeg:https://www.kintaudennuorisoseura.fi/wp-content/uploads/2025/06/Karaoke-13.jpg
END:VEVENT
BEGIN:VEVENT
DTSTART;TZID=UTC:20250608T130000
DTEND;TZID=UTC:20250608T170000
DTSTAMP:20260426T013333
CREATED:20250514T055928Z
LAST-MODIFIED:20250514T055928Z
UID:10000430-1749387600-1749402000@www.kintaudennuorisoseura.fi
SUMMARY:Huutokauppa
DESCRIPTION:Näyttö 13.00 ja huutaminen alkaa 14.00. Nuorisoseuran kahvio palvelee koko tapahtuman ajan.  Jyväskylän tyhjennysapu laittaa kuvia myytävistä Facebookissa.
URL:https://www.kintaudennuorisoseura.fi/tapahtuma/huutokauppa-14/
LOCATION:Kintauden nuorisoseurantalo Koivikko\, Räihäntie 35\, Kintaus\, 41920\, Suomi
CATEGORIES:Huutokauppa
ORGANIZER;CN="Jyv%C3%A4skyl%C3%A4n tyhjennysapu":MAILTO:tyhjennyspalvelut@gmail.com
END:VEVENT
BEGIN:VEVENT
DTSTART;TZID=UTC:20250525T130000
DTEND;TZID=UTC:20250525T170000
DTSTAMP:20260426T013333
CREATED:20250514T055810Z
LAST-MODIFIED:20250514T055810Z
UID:10000429-1748178000-1748192400@www.kintaudennuorisoseura.fi
SUMMARY:Huutokauppa
DESCRIPTION:Näyttö 13.00 ja huutaminen alkaa 14.00. Nuorisoseuran kahvio palvelee koko tapahtuman ajan.  Jyväskylän tyhjennysapu laittaa kuvia myytävistä Facebookissa.
URL:https://www.kintaudennuorisoseura.fi/tapahtuma/huutokauppa-13/
LOCATION:Kintauden nuorisoseurantalo Koivikko\, Räihäntie 35\, Kintaus\, 41920\, Suomi
CATEGORIES:Huutokauppa
ORGANIZER;CN="Jyv%C3%A4skyl%C3%A4n tyhjennysapu":MAILTO:tyhjennyspalvelut@gmail.com
END:VEVENT
BEGIN:VEVENT
DTSTART;TZID=UTC:20250524T160000
DTEND;TZID=UTC:20250524T210000
DTSTAMP:20260426T013333
CREATED:20250427T204755Z
LAST-MODIFIED:20250427T204755Z
UID:10000426-1748102400-1748120400@www.kintaudennuorisoseura.fi
SUMMARY:Karaoketanssit
DESCRIPTION:Lauantai Karaoke tanssit\n\n\nAlkaen 16.00 HUOM!\n\n\n\nLippu 8€ käteisellä tai 8\,50 kortilla\n\n\n\nLaulattamassa Matti\n\n\nTervetuloa!
URL:https://www.kintaudennuorisoseura.fi/tapahtuma/karaoketanssit-10/
LOCATION:Kintauden nuorisoseurantalo Koivikko\, Räihäntie 35\, Kintaus\, 41920\, Suomi
CATEGORIES:Karaoke tanssit
ATTACH;FMTTYPE=image/jpeg:https://www.kintaudennuorisoseura.fi/wp-content/uploads/2025/04/Karaoke-12.jpg
END:VEVENT
BEGIN:VEVENT
DTSTART;TZID=UTC:20250510T130000
DTEND;TZID=UTC:20250510T170000
DTSTAMP:20260426T013333
CREATED:20250416T035737Z
LAST-MODIFIED:20250416T040033Z
UID:10000424-1746882000-1746896400@www.kintaudennuorisoseura.fi
SUMMARY:Huutokauppa
DESCRIPTION:Näyttötunti alkaa: 13:00 \nHuutokauppa 14:00 \nTervetuloa
URL:https://www.kintaudennuorisoseura.fi/tapahtuma/yksityistilaisuus-23/
LOCATION:Kintauden nuorisoseurantalo Koivikko\, Räihäntie 35\, Kintaus\, 41920\, Suomi
CATEGORIES:Huutokauppa
ORGANIZER;CN="Jyv%C3%A4skyl%C3%A4n tyhjennysapu":MAILTO:tyhjennyspalvelut@gmail.com
END:VEVENT
BEGIN:VEVENT
DTSTART;TZID=UTC:20250426T160000
DTEND;TZID=UTC:20250426T203000
DTSTAMP:20260426T013333
CREATED:20250331T181045Z
LAST-MODIFIED:20250331T181045Z
UID:10000422-1745683200-1745699400@www.kintaudennuorisoseura.fi
SUMMARY:Karaoketanssit
DESCRIPTION:Lauantai Karaoke tanssit\n \n\nAlkaen 16.00 HUOM!\n\n \n\nLippu 8€ käteisellä tai 8\,50 kortilla\n\n \n\nLaulattamassa Matti\n\n \nTervetuloa!
URL:https://www.kintaudennuorisoseura.fi/tapahtuma/karaoketanssit-9/
LOCATION:Kintauden nuorisoseurantalo Koivikko\, Räihäntie 35\, Kintaus\, 41920\, Suomi
CATEGORIES:Karaoke tanssit
ATTACH;FMTTYPE=image/jpeg:https://www.kintaudennuorisoseura.fi/wp-content/uploads/2025/03/Karaoke-11.jpg
END:VEVENT
BEGIN:VEVENT
DTSTART;TZID=UTC:20250426T100000
DTEND;TZID=UTC:20250426T150000
DTSTAMP:20260426T013333
CREATED:20250409T054456Z
LAST-MODIFIED:20250416T035616Z
UID:10000423-1745661600-1745679600@www.kintaudennuorisoseura.fi
SUMMARY:Kevätkihaus Kintaudella
DESCRIPTION:Kirppari paikkavaraus.
URL:https://www.kintaudennuorisoseura.fi/tapahtuma/kevatkihaus-kintaudella/
LOCATION:Kintauden nuorisoseurantalo Koivikko\, Räihäntie 35\, Kintaus\, 41920\, Suomi
ATTACH;FMTTYPE=image/jpeg:https://www.kintaudennuorisoseura.fi/wp-content/uploads/2025/04/489671860_1081053950716816_2634344171967644458_n1-1.jpg
END:VEVENT
BEGIN:VEVENT
DTSTART;TZID=UTC:20250413T130000
DTEND;TZID=UTC:20250413T170000
DTSTAMP:20260426T013333
CREATED:20250331T180214Z
LAST-MODIFIED:20250331T180214Z
UID:10000421-1744549200-1744563600@www.kintaudennuorisoseura.fi
SUMMARY:Huutokauppa
DESCRIPTION:Näyttö 13.00 alkaen ja huutaminen 14.00 alkaen nuorisoseuran kahvio palvelee koko tapahtuman ajan.
URL:https://www.kintaudennuorisoseura.fi/tapahtuma/huutokauppa-12/
LOCATION:Kintauden nuorisoseurantalo Koivikko\, Räihäntie 35\, Kintaus\, 41920\, Suomi
CATEGORIES:Huutokauppa
ORGANIZER;CN="Jyv%C3%A4skyl%C3%A4n tyhjennysapu":MAILTO:tyhjennyspalvelut@gmail.com
END:VEVENT
BEGIN:VEVENT
DTSTART;TZID=UTC:20250330T160000
DTEND;TZID=UTC:20250330T180000
DTSTAMP:20260426T013333
CREATED:20250216T150352Z
LAST-MODIFIED:20250306T113217Z
UID:10000408-1743350400-1743357600@www.kintaudennuorisoseura.fi
SUMMARY:Huutokauppa
DESCRIPTION:Näyttötunti 16.00 huutaminen alkaa 17.00. Lauri Ojakorpi Jyväskylän tyhjennyspalvelu antaa lisätietoja ja facebookiin tulee joitakin kuvia myytävistä tuotteista. \n  \nNuorisoseuran kahvio palvelee koko tapahtuman ajan. \n  \nTervetuloa.
URL:https://www.kintaudennuorisoseura.fi/tapahtuma/huutokauppa-11/
LOCATION:Kintauden nuorisoseurantalo Koivikko\, Räihäntie 35\, Kintaus\, 41920\, Suomi
CATEGORIES:Huutokauppa,Kahvila
ORGANIZER;CN="Jyv%C3%A4skyl%C3%A4n tyhjennysapu":MAILTO:tyhjennyspalvelut@gmail.com
END:VEVENT
BEGIN:VEVENT
DTSTART;TZID=UTC:20250329T160000
DTEND;TZID=UTC:20250329T200000
DTSTAMP:20260426T013333
CREATED:20250306T114336Z
LAST-MODIFIED:20250309T155510Z
UID:10000409-1743264000-1743278400@www.kintaudennuorisoseura.fi
SUMMARY:Karaoke
DESCRIPTION:Karaoketanssit alkaen 16.00. Matti laulattaa. Nuorisoseuran kahvio palvelee koko tapahtuman ajan. Liput 8€ käteisellä tai 8\,50 kortilla. \n  \nTervetuloa laulamaan\, tanssimaan ja kuuntelemaan..
URL:https://www.kintaudennuorisoseura.fi/tapahtuma/karaoke-4/
LOCATION:Kintauden nuorisoseurantalo Koivikko\, Räihäntie 35\, Kintaus\, 41920\, Suomi
CATEGORIES:Kahvila,Karaoke tanssit
ATTACH;FMTTYPE=image/jpeg:https://www.kintaudennuorisoseura.fi/wp-content/uploads/2025/03/Karaoke-9.jpg
END:VEVENT
BEGIN:VEVENT
DTSTART;TZID=UTC:20250309T120000
DTEND;TZID=UTC:20250309T180000
DTSTAMP:20260426T013333
CREATED:20250216T150246Z
LAST-MODIFIED:20250216T150246Z
UID:10000407-1741521600-1741543200@www.kintaudennuorisoseura.fi
SUMMARY:Huutokauppa
DESCRIPTION:Näyttötunti 12.00 huutaminen alkaa 13.00. Lauri Ojakorpi Jyväskylän tyhjennyspalvelu antaa lisätietoja ja facebookiin tulee joitakin kuvia myytävistä tuotteista. \n  \nNuorisoseuran kahvio palvelee koko tapahtuman ajan. \n  \nTervetuloa. \n 
URL:https://www.kintaudennuorisoseura.fi/tapahtuma/huutokauppa-10/
LOCATION:Kintauden nuorisoseurantalo Koivikko\, Räihäntie 35\, Kintaus\, 41920\, Suomi
CATEGORIES:Huutokauppa,Kahvila
ORGANIZER;CN="Jyv%C3%A4skyl%C3%A4n tyhjennysapu":MAILTO:tyhjennyspalvelut@gmail.com
END:VEVENT
BEGIN:VEVENT
DTSTART;TZID=UTC:20250301T170000
DTEND;TZID=UTC:20250301T210000
DTSTAMP:20260426T013333
CREATED:20250211T185121Z
LAST-MODIFIED:20250211T185149Z
UID:10000402-1740848400-1740862800@www.kintaudennuorisoseura.fi
SUMMARY:Karaoketanssit
DESCRIPTION:Matti laulattaa 17.00 alkaen. Liput 8€
URL:https://www.kintaudennuorisoseura.fi/tapahtuma/karaoketanssit-8/
LOCATION:Kintauden nuorisoseurantalo Koivikko\, Räihäntie 35\, Kintaus\, 41920\, Suomi
CATEGORIES:Kahvila,Karaoke tanssit
ATTACH;FMTTYPE=image/jpeg:https://www.kintaudennuorisoseura.fi/wp-content/uploads/2025/02/Karaoke-8.jpg
END:VEVENT
BEGIN:VEVENT
DTSTART;TZID=UTC:20250216T120000
DTEND;TZID=UTC:20250216T210000
DTSTAMP:20260426T013333
CREATED:20250108T182432Z
LAST-MODIFIED:20250203T175827Z
UID:10000396-1739707200-1739739600@www.kintaudennuorisoseura.fi
SUMMARY:Huutokauppa
DESCRIPTION:Huutaminen alkaa 13.00 näyttötunti 12.00 \nKintauden nuorisoseuran kahvila palvelee koko tapahtuman ajan. \nTervetuloa!
URL:https://www.kintaudennuorisoseura.fi/tapahtuma/huutokauppa-9/
LOCATION:Kintauden nuorisoseurantalo Koivikko\, Räihäntie 35\, Kintaus\, 41920\, Suomi
CATEGORIES:Huutokauppa,Kahvila
ORGANIZER;CN="Jyv%C3%A4skyl%C3%A4n tyhjennysapu":MAILTO:tyhjennyspalvelut@gmail.com
END:VEVENT
BEGIN:VEVENT
DTSTART;TZID=UTC:20250208T170000
DTEND;TZID=UTC:20250208T213000
DTSTAMP:20260426T013333
CREATED:20250120T064631Z
LAST-MODIFIED:20250120T064631Z
UID:10000400-1739034000-1739050200@www.kintaudennuorisoseura.fi
SUMMARY:Karaoketanssit
DESCRIPTION:Matti laulattaa 17.00 alkaen. Liput 8€
URL:https://www.kintaudennuorisoseura.fi/tapahtuma/karaoketanssit-7/
LOCATION:Kintauden nuorisoseurantalo Koivikko\, Räihäntie 35\, Kintaus\, 41920\, Suomi
ATTACH;FMTTYPE=image/jpeg:https://www.kintaudennuorisoseura.fi/wp-content/uploads/2025/01/Karaoke-7.jpg
END:VEVENT
BEGIN:VEVENT
DTSTART;TZID=UTC:20250202T120000
DTEND;TZID=UTC:20250202T170000
DTSTAMP:20260426T013333
CREATED:20250108T182328Z
LAST-MODIFIED:20250108T182328Z
UID:10000395-1738497600-1738515600@www.kintaudennuorisoseura.fi
SUMMARY:Huutokauppa
DESCRIPTION:
URL:https://www.kintaudennuorisoseura.fi/tapahtuma/huutokauppa-8/
LOCATION:Kintauden nuorisoseurantalo Koivikko\, Räihäntie 35\, Kintaus\, 41920\, Suomi
CATEGORIES:Huutokauppa,Kahvila
ORGANIZER;CN="Jyv%C3%A4skyl%C3%A4n tyhjennysapu":MAILTO:tyhjennyspalvelut@gmail.com
END:VEVENT
BEGIN:VEVENT
DTSTART;TZID=UTC:20241226T120000
DTEND;TZID=UTC:20241226T170000
DTSTAMP:20260426T013333
CREATED:20241202T191251Z
LAST-MODIFIED:20241202T191251Z
UID:10000389-1735214400-1735232400@www.kintaudennuorisoseura.fi
SUMMARY:Huutokauppa
DESCRIPTION:Näyttö 12.00 huutaminen alkaa 13.00 \n  \nHuutokaupan tavaroita esillä Jyväskylän tyhjennyspalvelun sivuilla.
URL:https://www.kintaudennuorisoseura.fi/tapahtuma/huutokauppa-5/
LOCATION:Kintauden nuorisoseurantalo Koivikko\, Räihäntie 35\, Kintaus\, 41920\, Suomi
CATEGORIES:Huutokauppa,Kahvila
ORGANIZER;CN="Jyv%C3%A4skyl%C3%A4n tyhjennysapu":MAILTO:tyhjennyspalvelut@gmail.com
END:VEVENT
BEGIN:VEVENT
DTSTART;TZID=UTC:20241202T140000
DTEND;TZID=UTC:20241202T163000
DTSTAMP:20260426T013333
CREATED:20240804T132807Z
LAST-MODIFIED:20240804T132807Z
UID:10000142-1733148000-1733157000@www.kintaudennuorisoseura.fi
SUMMARY:Maanantaikahvila
DESCRIPTION:Maanantaikahvilassa tarjolla suolaista ja makeaa herkkua sekä viileitä juomia ja tietysti kahvia\, teetä ja kaakaota. Myös karkkikaapin ovet ovat auki jos makean himo iskee. \nTervetuloa.
URL:https://www.kintaudennuorisoseura.fi/tapahtuma/maanantaikahvila-8/
LOCATION:Kintauden nuorisoseurantalo Koivikko\, Räihäntie 35\, Kintaus\, 41920\, Suomi
CATEGORIES:Kahvila
ATTACH;FMTTYPE=image/jpeg:https://www.kintaudennuorisoseura.fi/wp-content/uploads/2024/08/Maanantai-4.jpg
END:VEVENT
BEGIN:VEVENT
DTSTART;TZID=UTC:20241123T170000
DTEND;TZID=UTC:20241123T200000
DTSTAMP:20260426T013333
CREATED:20240906T101858Z
LAST-MODIFIED:20241022T142759Z
UID:10000150-1732381200-1732392000@www.kintaudennuorisoseura.fi
SUMMARY:Lauantai karaoketanssit
DESCRIPTION:Alkaen 17.00 lauletaan ja tanssitaan Matin johdolla.
URL:https://www.kintaudennuorisoseura.fi/tapahtuma/karaoketanssit-5/
LOCATION:Kintauden nuorisoseurantalo Koivikko\, Räihäntie 35\, Kintaus\, 41920\, Suomi
CATEGORIES:Kahvila,Karaoke tanssit
ATTACH;FMTTYPE=image/jpeg:https://www.kintaudennuorisoseura.fi/wp-content/uploads/2024/09/Karaoke-5.jpg
END:VEVENT
BEGIN:VEVENT
DTSTART;TZID=UTC:20241104T140000
DTEND;TZID=UTC:20241104T163000
DTSTAMP:20260426T013333
CREATED:20240804T132705Z
LAST-MODIFIED:20240804T132705Z
UID:10000141-1730728800-1730737800@www.kintaudennuorisoseura.fi
SUMMARY:Maanataikahvila
DESCRIPTION:Maanantaikahvilassa tarjolla suolaista ja makeaa herkkua sekä viileitä juomia ja tietysti kahvia\, teetä ja kaakaota. Myös karkkikaapin ovet ovat auki jos makean himo iskee. \nTervetuloa.
URL:https://www.kintaudennuorisoseura.fi/tapahtuma/maanataikahvila/
LOCATION:Kintauden nuorisoseurantalo Koivikko\, Räihäntie 35\, Kintaus\, 41920\, Suomi
CATEGORIES:Kahvila
ATTACH;FMTTYPE=image/jpeg:https://www.kintaudennuorisoseura.fi/wp-content/uploads/2024/08/Maanantai-4.jpg
END:VEVENT
END:VCALENDAR